BEGIN:VCALENDAR
VERSION:2.0
PRODID:-//www.ccuhbg.org//NONSGML kigkonsult.se iCalcreator 2.30.10//
CALSCALE:GREGORIAN
METHOD:PUBLISH
UID:4ef20392-8a98-49c8-a0d4-2286a6453d43
X-WR-CALDESC:Speaker: Reverend Karin Pejack\nGroup: Zion Lutheran Church\, 
 Harrisburg
X-WR-RELCALID:2401c7688458de186ad5ddc98a4d6069
X-WR-TIMEZONE:America/New_York
BEGIN:VTIMEZONE
TZID:America/New_York
BEGIN:STANDARD
TZNAME:EST
DTSTART:20171105T020000
TZOFFSETFROM:-0400
TZOFFSETTO:-0500
RDATE:20181104T020000
RDATE:20191103T020000
END:STANDARD
BEGIN:DAYLIGHT
TZNAME:EDT
DTSTART:20180311T020000
TZOFFSETFROM:-0500
TZOFFSETTO:-0400
RDATE:20190310T020000
RDATE:20200308T020000
END:DAYLIGHT
END:VTIMEZONE
BEGIN:VEVENT
UID:edf685d2-2b62-4d93-8312-b79b3f960bf4
DTSTAMP:20260420T005009Z
DESCRIPTION:Speaker: Reverend Karin Pejack\nGroup: Zion Lutheran Church\, H
 arrisburg
DTSTART;TZID=America/New_York:20180923T100000
DTEND;TZID=America/New_York:20180923T110000
LOCATION:Harrisburg City Island
SUMMARY:Riverboat Worship Service
END:VEVENT
END:VCALENDAR
