BEGIN:VCALENDAR
VERSION:2.0
PRODID:-//www.ccuhbg.org//NONSGML kigkonsult.se iCalcreator 2.30.10//
CALSCALE:GREGORIAN
METHOD:PUBLISH
UID:51151e57-f240-4f90-b646-b2e8583dd756
X-WR-CALDESC:Organized by Healing Communities of the Capital Region\,\nA Pr
 ogram of Christian Churches United\n\nSaturday\, September 29\, 2018\n8:30
  am – 2 pm\n\nCost of Training: $40.00 individual registrant \; $100.00 fo
 r groups of 3 from same church/organization\, (additional persons from sam
 e group- $30.00 per person up to maximum group size of 5). Cost includes c
 ontinental breakfast\, lunch\, and all training materials\n\n<b>Registrati
 on Deadline: Friday\, September 21</b>\n\nThe Healing Communities model eq
 uips congregations to become a “Station of Hope” by providing training and
  support in building relationships of healing\, redemption\, and reconcili
 ation with individuals and families impacted by the criminal justice syste
 m. Congregations are encouraged to send a group of at least three leaders/
 active members in order to effectively implement the model in their settin
 g.\n\nTo register\, send the registration form below along with your regis
 tration fee to Christian Churches United\, 413 S 19th St.\, Harrisburg\, P
 A 17104. For more information\, contact Darrel Reinford\, Executive Direct
 or\, using the contact information below.
X-WR-RELCALID:d9b79ae40c17db5dd6f4af890faf214f
X-WR-TIMEZONE:America/New_York
BEGIN:VTIMEZONE
TZID:America/New_York
BEGIN:STANDARD
TZNAME:EST
DTSTART:20171105T020000
TZOFFSETFROM:-0400
TZOFFSETTO:-0500
RDATE:20181104T020000
RDATE:20191103T020000
END:STANDARD
BEGIN:DAYLIGHT
TZNAME:EDT
DTSTART:20180311T020000
TZOFFSETFROM:-0500
TZOFFSETTO:-0400
RDATE:20190310T020000
RDATE:20200308T020000
END:DAYLIGHT
END:VTIMEZONE
BEGIN:VEVENT
UID:5faf3559-b338-4f62-8fc8-a0575c12bfa8
DTSTAMP:20260420T004133Z
DESCRIPTION:Organized by Healing Communities of the Capital Region\,\nA Pro
 gram of Christian Churches United\n\nSaturday\, September 29\, 2018\n8:30 
 am – 2 pm\n\nCost of Training: $40.00 individual registrant \; $100.00 for
  groups of 3 from same church/organization\, (additional persons from same
  group- $30.00 per person up to maximum group size of 5). Cost includes co
 ntinental breakfast\, lunch\, and all training materials\n\n<b>Registratio
 n Deadline: Friday\, September 21</b>\n\nThe Healing Communities model equ
 ips congregations to become a “Station of Hope” by providing training and 
 support in building relationships of healing\, redemption\, and reconcilia
 tion with individuals and families impacted by the criminal justice system
 . Congregations are encouraged to send a group of at least three leaders/a
 ctive members in order to effectively implement the model in their setting
 .\n\nTo register\, send the registration form below along with your regist
 ration fee to Christian Churches United\, 413 S 19th St.\, Harrisburg\, PA
  17104. For more information\, contact Darrel Reinford\, Executive Directo
 r\, using the contact information below.
DTSTART;TZID=America/New_York:20180929T083000
DTEND;TZID=America/New_York:20180929T140000
LOCATION:St. Paul Episcopal Church\, 248 Seneca St.\, Harrisburg\, PA  1711
 0
SUMMARY:Healing Communities Training
END:VEVENT
END:VCALENDAR
