BEGIN:VCALENDAR
VERSION:2.0
PRODID:-//www.ccuhbg.org//NONSGML kigkonsult.se iCalcreator 2.30.10//
CALSCALE:GREGORIAN
METHOD:PUBLISH
UID:c48164c6-da3f-45e8-ba36-9a7cb0733fed
X-WR-CALDESC:Guest Preacher: Dr. Harold Dean Trulear National Director\, He
 aling Communities USA\n\nMusic Led By Voices of Praise Goodwin Memorial Ba
 ptist Church\n\nJoin in worship with representatives from the many churche
 s that make our weekly Work Release Worship service possible.\n\n<i>A rece
 ption will follow the service.</i>
X-WR-RELCALID:345be6a7483a7ccaef7a6657bfb5803e
X-WR-TIMEZONE:America/New_York
BEGIN:VTIMEZONE
TZID:America/New_York
BEGIN:STANDARD
TZNAME:EST
DTSTART:20171105T020000
TZOFFSETFROM:-0400
TZOFFSETTO:-0500
RDATE:20181104T020000
RDATE:20191103T020000
END:STANDARD
BEGIN:DAYLIGHT
TZNAME:EDT
DTSTART:20180311T020000
TZOFFSETFROM:-0500
TZOFFSETTO:-0400
RDATE:20190310T020000
RDATE:20200308T020000
END:DAYLIGHT
END:VTIMEZONE
BEGIN:VEVENT
UID:52d85ceb-01da-4f34-8345-4a8be4bfcb50
DTSTAMP:20260420T004548Z
DESCRIPTION:Guest Preacher: Dr. Harold Dean Trulear National Director\, Hea
 ling Communities USA\n\nMusic Led By Voices of Praise Goodwin Memorial Bap
 tist Church\n\nJoin in worship with representatives from the many churches
  that make our weekly Work Release Worship service possible.\n\n<i>A recep
 tion will follow the service.</i>
DTSTART;TZID=America/New_York:20180930T160000
DTEND;TZID=America/New_York:20180930T180000
LOCATION:CCU Sanctuary\, 413 S. 19th Street\, Harrisburg\, PA  17104
SUMMARY:ANNUAL CELEBRATION SERVICE: Work Release Worship
END:VEVENT
END:VCALENDAR
