BEGIN:VCALENDAR
VERSION:2.0
PRODID:-//www.ccuhbg.org//NONSGML kigkonsult.se iCalcreator 2.30.10//
CALSCALE:GREGORIAN
METHOD:PUBLISH
UID:887edd72-3782-4253-b708-ea52f708713b
X-WR-CALDESC:Speaker: Pastor Chad Slabach\nGroup: Bridge Faith Community
X-WR-RELCALID:60f7c8739486a6cb2238ec56eab683be
X-WR-TIMEZONE:America/New_York
BEGIN:VTIMEZONE
TZID:America/New_York
BEGIN:STANDARD
TZNAME:EST
DTSTART:20171105T020000
TZOFFSETFROM:-0400
TZOFFSETTO:-0500
RDATE:20181104T020000
RDATE:20191103T020000
END:STANDARD
BEGIN:DAYLIGHT
TZNAME:EDT
DTSTART:20180311T020000
TZOFFSETFROM:-0500
TZOFFSETTO:-0400
RDATE:20190310T020000
RDATE:20200308T020000
END:DAYLIGHT
END:VTIMEZONE
BEGIN:VEVENT
UID:0ff2c436-21ea-4fdf-abb1-7b37fc7f7624
DTSTAMP:20260420T004542Z
DESCRIPTION:Speaker: Pastor Chad Slabach\nGroup: Bridge Faith Community
DTSTART;TZID=America/New_York:20180930T100000
DTEND;TZID=America/New_York:20180930T110000
LOCATION:Harrisburg City Island
SUMMARY:Riverboat Worship Service
END:VEVENT
END:VCALENDAR
