BEGIN:VCALENDAR
VERSION:2.0
PRODID:-//www.ccuhbg.org//NONSGML kigkonsult.se iCalcreator 2.30.10//
CALSCALE:GREGORIAN
METHOD:PUBLISH
UID:bb02c5e3-6636-44a0-b90e-37ea39e639a1
X-WR-CALDESC:Single Tickets: $50 Member Church Registration \nTables of 8: 
 $400\n\nContact Steve Schwartz\, Director of Development\, at (717) 230-95
 50 or sschwartz@ccuhbg.org for sponsorship and advertising opportunities. 
 (Download Poster below for listing of sponsorship levels and ad pricing.)
 \n\nAlso needed: Silent Auction Donations. Please consider donating a spec
 ialty basket\, gift certificate for goods or services\, vacation package\,
  handmade item\, or other item of value or intrigue.  Please deliver to CC
 U by Nov. 1\, 2018.\n
X-WR-RELCALID:3a2e50dd2df039bf0bab589d19dfd8e8
X-WR-TIMEZONE:America/New_York
BEGIN:VTIMEZONE
TZID:America/New_York
BEGIN:STANDARD
TZNAME:EST
DTSTART:20181104T020000
TZOFFSETFROM:-0400
TZOFFSETTO:-0500
RDATE:20191103T020000
END:STANDARD
BEGIN:DAYLIGHT
TZNAME:EDT
DTSTART:20180311T020000
TZOFFSETFROM:-0500
TZOFFSETTO:-0400
RDATE:20190310T020000
RDATE:20200308T020000
END:DAYLIGHT
END:VTIMEZONE
BEGIN:VEVENT
UID:598b6f31-d3ac-4cd3-96a5-d8ddb4961401
DTSTAMP:20260419T213541Z
DESCRIPTION:Single Tickets: $50 Member Church Registration \nTables of 8: $
 400\n\nContact Steve Schwartz\, Director of Development\, at (717) 230-955
 0 or sschwartz@ccuhbg.org for sponsorship and advertising opportunities. (
 Download Poster below for listing of sponsorship levels and ad pricing.)\n
 \nAlso needed: Silent Auction Donations. Please consider donating a specia
 lty basket\, gift certificate for goods or services\, vacation package\, h
 andmade item\, or other item of value or intrigue.  Please deliver to CCU 
 by Nov. 1\, 2018.\n
DTSTART;TZID=America/New_York:20181113T173000
DTEND;TZID=America/New_York:20181113T210000
LOCATION:Best Western Premier\, 800 East Park Drive\, Harrisburg\, PA  1711
 1
SUMMARY:United In Love Banquet 2018 (MEMBERS/PARTNERS REGISTRATION)
END:VEVENT
END:VCALENDAR
