BEGIN:VCALENDAR
VERSION:2.0
PRODID:-//www.ccuhbg.org//NONSGML kigkonsult.se iCalcreator 2.30.10//
CALSCALE:GREGORIAN
METHOD:PUBLISH
UID:1fee0ad5-0ccd-4c7f-becf-6dbcefd359c3
X-WR-CALDESC:Single Tickets: $50\nTables of 8: $400\n\nContact Steve Schwar
 tz\, Director of Development\, at (717) 230-9550 or sschwartz@ccuhbg.org f
 or sponsorship and advertising opportunities. (Download Poster below for l
 isting of sponsorship levels and ad pricing.)\n\nAlso needed: Silent Aucti
 on Donations. Please consider donating a specialty basket\, gift certifica
 te for goods or services\, vacation package\, handmade item\, or other ite
 m of value or intrigue.  Please deliver to CCU by Nov. 1\, 2018.\n
X-WR-RELCALID:d13e7408c08ce4dd9694f66c6c5c0e4e
X-WR-TIMEZONE:America/New_York
BEGIN:VTIMEZONE
TZID:America/New_York
BEGIN:STANDARD
TZNAME:EST
DTSTART:20181104T020000
TZOFFSETFROM:-0400
TZOFFSETTO:-0500
RDATE:20191103T020000
END:STANDARD
BEGIN:DAYLIGHT
TZNAME:EDT
DTSTART:20180311T020000
TZOFFSETFROM:-0500
TZOFFSETTO:-0400
RDATE:20190310T020000
RDATE:20200308T020000
END:DAYLIGHT
END:VTIMEZONE
BEGIN:VEVENT
UID:4ec2eaca-f624-4f3b-bf8a-d40f3628c64a
DTSTAMP:20260419T213455Z
DESCRIPTION:Single Tickets: $50\nTables of 8: $400\n\nContact Steve Schwart
 z\, Director of Development\, at (717) 230-9550 or sschwartz@ccuhbg.org fo
 r sponsorship and advertising opportunities. (Download Poster below for li
 sting of sponsorship levels and ad pricing.)\n\nAlso needed: Silent Auctio
 n Donations. Please consider donating a specialty basket\, gift certificat
 e for goods or services\, vacation package\, handmade item\, or other item
  of value or intrigue.  Please deliver to CCU by Nov. 1\, 2018.\n
DTSTART;TZID=America/New_York:20181113T173000
DTEND;TZID=America/New_York:20181113T210000
LOCATION:Best Western Premier\, 800 East Park Drive\, Harrisburg\, PA  1711
 1
SUMMARY:United In Love Banquet 2018
END:VEVENT
END:VCALENDAR
