BEGIN:VCALENDAR
VERSION:2.0
PRODID:-//www.ccuhbg.org//NONSGML kigkonsult.se iCalcreator 2.30.10//
CALSCALE:GREGORIAN
METHOD:PUBLISH
UID:68c3543d-8272-4d0e-b2ad-187d3582c208
X-WR-CALDESC:'Lift Every Voice' - One River\, Two Worlds\nAn MLK Day Anti-R
 acism Event\n\nMonday\, January 21\, 2019\n\n6:00pm Panel Discussion - 'Co
 nversation on Race & History in Connection to East Shore/West Shore Divisi
 on'\n7:30pm Break/Refreshments\n8:00pm Worship Service including Unity Cho
 ir and Creative Arts Presentations\n\nSupporting Organizations\n- Christia
 n Churches United\n- Face 2 Face Ministries\n- First Christian Church - Di
 sciples of Christ\n- Lower Susquehanna Synod\, Evangelical Lutheran Church
  in America\n- Presbyterian Church USA\n- The United Methodist Church - Su
 squehanna Conference\n- Episcopal Church of Central Pennsylvania\n- Commun
 ity Responders Network\n- Penn Central Conference of the United Church of 
 Christ
X-WR-RELCALID:616e79155836ee7eb8a19576e500b0a3
X-WR-TIMEZONE:America/New_York
BEGIN:VTIMEZONE
TZID:America/New_York
BEGIN:STANDARD
TZNAME:EST
DTSTART:20181104T020000
TZOFFSETFROM:-0400
TZOFFSETTO:-0500
RDATE:20191103T020000
END:STANDARD
BEGIN:DAYLIGHT
TZNAME:EDT
DTSTART:20180311T020000
TZOFFSETFROM:-0500
TZOFFSETTO:-0400
RDATE:20190310T020000
RDATE:20200308T020000
END:DAYLIGHT
END:VTIMEZONE
BEGIN:VEVENT
UID:96388a3c-6546-4301-b87d-433c1941b54a
DTSTAMP:20260419T175037Z
DESCRIPTION:'Lift Every Voice' - One River\, Two Worlds\nAn MLK Day Anti-Ra
 cism Event\n\nMonday\, January 21\, 2019\n\n6:00pm Panel Discussion - 'Con
 versation on Race & History in Connection to East Shore/West Shore Divisio
 n'\n7:30pm Break/Refreshments\n8:00pm Worship Service including Unity Choi
 r and Creative Arts Presentations\n\nSupporting Organizations\n- Christian
  Churches United\n- Face 2 Face Ministries\n- First Christian Church - Dis
 ciples of Christ\n- Lower Susquehanna Synod\, Evangelical Lutheran Church 
 in America\n- Presbyterian Church USA\n- The United Methodist Church - Sus
 quehanna Conference\n- Episcopal Church of Central Pennsylvania\n- Communi
 ty Responders Network\n- Penn Central Conference of the United Church of C
 hrist
DTSTART;TZID=America/New_York:20190121T180000
DTEND;TZID=America/New_York:20190121T210000
LOCATION:First Christian Church (Disciples of Christ)\, 442 Hummel Ave\, Le
 moyne\, PA  17043
SUMMARY:'Lift Every Voice' MLK Day Anti-Racism Event
END:VEVENT
END:VCALENDAR
