BEGIN:VCALENDAR
VERSION:2.0
PRODID:-//www.ccuhbg.org//NONSGML kigkonsult.se iCalcreator 2.30.10//
CALSCALE:GREGORIAN
METHOD:PUBLISH
UID:4b720894-66b1-4797-9605-54804ef5dbe5
X-WR-CALDESC:TO WALK\, FORM A TEAM OR SPONSOR A WALKER/TEAM: http://www.ccu
 hbg.org/walk\n\nSaturday\, May 18\, 2019\n7:45am Registration Begins\n9:00
 am Walk (1 mile and 5K loops)\nAt: HACC Harrisburg\, One HACC Drive Harris
 burg\, PA 17110\n\nBENEFITS: Susquehanna Harbor Safe Haven\, including lon
 g-term housing for men who were chronically homeless and our winter overni
 ght sleeping space for men on the street.\n\nJOIN THE AFTERPARTY!\nDrop by
  Susquehanna Harbor Safe Haven from 9:30-11:30am after the walk on May 18 
 for refreshments/tours. Walker awards/door prizes at 10:30. You’re welcome
  to come take a tour even if you can’t walk with us!\n\nAll Walkers Receiv
 e “Love Your Neighbor” Tote Bag with phrase in 23 languages\nRaise $30: Ge
 t Highmark Shirt\nRaise $50: Also get “Love Your Neighbor” shirt in your c
 olor choice\nPrizes for top fundraisers & teams!\nBring Your Dog!\nFor Que
 stions/Info Contact: Steve Schwartz\, (717) 230-9550\, sschwartz@ccuhbg.or
 g\n\nTO WALK\, FORM A TEAM OR SPONSOR A WALKER/TEAM:\nhttp://www.ccuhbg.or
 g/walk\nOr mail your sponsorship donation to CCU\, 413 S. 19th St.\, Harri
 sburg\, PA 17104
X-WR-RELCALID:1d4a5bfaa626b183ebd5e75f492fbd0c
X-WR-TIMEZONE:America/New_York
BEGIN:VTIMEZONE
TZID:America/New_York
BEGIN:STANDARD
TZNAME:EST
DTSTART:20181104T020000
TZOFFSETFROM:-0400
TZOFFSETTO:-0500
RDATE:20191103T020000
RDATE:20201101T020000
END:STANDARD
BEGIN:DAYLIGHT
TZNAME:EDT
DTSTART:20190310T020000
TZOFFSETFROM:-0500
TZOFFSETTO:-0400
RDATE:20200308T020000
END:DAYLIGHT
END:VTIMEZONE
BEGIN:VEVENT
UID:e8193fc1-15be-4a1a-9e70-ea7e216d4bf5
DTSTAMP:20260419T115810Z
DESCRIPTION:TO WALK\, FORM A TEAM OR SPONSOR A WALKER/TEAM: http://www.ccuh
 bg.org/walk\n\nSaturday\, May 18\, 2019\n7:45am Registration Begins\n9:00a
 m Walk (1 mile and 5K loops)\nAt: HACC Harrisburg\, One HACC Drive Harrisb
 urg\, PA 17110\n\nBENEFITS: Susquehanna Harbor Safe Haven\, including long
 -term housing for men who were chronically homeless and our winter overnig
 ht sleeping space for men on the street.\n\nJOIN THE AFTERPARTY!\nDrop by 
 Susquehanna Harbor Safe Haven from 9:30-11:30am after the walk on May 18 f
 or refreshments/tours. Walker awards/door prizes at 10:30. You’re welcome 
 to come take a tour even if you can’t walk with us!\n\nAll Walkers Receive
  “Love Your Neighbor” Tote Bag with phrase in 23 languages\nRaise $30: Get
  Highmark Shirt\nRaise $50: Also get “Love Your Neighbor” shirt in your co
 lor choice\nPrizes for top fundraisers & teams!\nBring Your Dog!\nFor Ques
 tions/Info Contact: Steve Schwartz\, (717) 230-9550\, sschwartz@ccuhbg.org
 \n\nTO WALK\, FORM A TEAM OR SPONSOR A WALKER/TEAM:\nhttp://www.ccuhbg.org
 /walk\nOr mail your sponsorship donation to CCU\, 413 S. 19th St.\, Harris
 burg\, PA 17104
DTSTART;TZID=America/New_York:20190518T090000
DTEND;TZID=America/New_York:20190518T113000
LOCATION:HACC Harrisburg\, 1 HACC Dr\, Harrisburg\, PA 17110
SUMMARY:CCU Highmark Walk
END:VEVENT
END:VCALENDAR
