BEGIN:VCALENDAR
VERSION:2.0
PRODID:-//www.ccuhbg.org//NONSGML kigkonsult.se iCalcreator 2.30.10//
CALSCALE:GREGORIAN
METHOD:PUBLISH
UID:635435f7-7b33-4938-8393-c379b6847faa
X-WR-CALDESC:REGISTRATION IS CLOSED! CALL STEVE SCHWARTZ AT (717) 230-9550 
 WITH QUESTIONS.\n\nSchedule:\n7:45am: Registration/Refreshments\n8:30am: S
 hotgun Start (18-hole team scramble)\n1:00pm: Lunch/Awards Ceremony\n\nTou
 rnament Includes:\n* Cart Rental and Greens Fees\n* Prizes:\n    - Team pr
 izes\n    - Skill prizes\n    - Door prizes\n* Mulligans: Available for pu
 rchase\n* Silent Auction:\n    - Variety of items and gift certificates\n 
    - Your item donations are welcomed!\n* FOOD!:\n    - Refreshments throu
 gh out\n    - Buffet luncheon\n\nHELP Ministries is a social service hub i
 n Harrisburg city\, providing a comprehensive approach to homelessness and
  poverty alleviation. HELP is often a place of last resort for anyone need
 ing assistance\, and for anyone in an emergency situation. HELP Ministries
  is supported financially by area churches\, businesses\, local government
  agencies\, concerned individuals\, PPL Electric Utilities\, Community Aid
 \,  the United Way of the Capital Region\, and THIS GOLF TOURNAMENT. Regis
 ter today to change the life of a neighbor in need!\n
X-WR-RELCALID:8c22c45a6def8f4a81c794357d7ed40f
X-WR-TIMEZONE:America/New_York
BEGIN:VTIMEZONE
TZID:America/New_York
BEGIN:STANDARD
TZNAME:EST
DTSTART:20181104T020000
TZOFFSETFROM:-0400
TZOFFSETTO:-0500
RDATE:20191103T020000
RDATE:20201101T020000
END:STANDARD
BEGIN:DAYLIGHT
TZNAME:EDT
DTSTART:20190310T020000
TZOFFSETFROM:-0500
TZOFFSETTO:-0400
RDATE:20200308T020000
END:DAYLIGHT
END:VTIMEZONE
BEGIN:VEVENT
UID:7375594d-4314-46f7-9af4-7aaa67af430a
DTSTAMP:20260421T085049Z
DESCRIPTION:REGISTRATION IS CLOSED! CALL STEVE SCHWARTZ AT (717) 230-9550 W
 ITH QUESTIONS.\n\nSchedule:\n7:45am: Registration/Refreshments\n8:30am: Sh
 otgun Start (18-hole team scramble)\n1:00pm: Lunch/Awards Ceremony\n\nTour
 nament Includes:\n* Cart Rental and Greens Fees\n* Prizes:\n    - Team pri
 zes\n    - Skill prizes\n    - Door prizes\n* Mulligans: Available for pur
 chase\n* Silent Auction:\n    - Variety of items and gift certificates\n  
   - Your item donations are welcomed!\n* FOOD!:\n    - Refreshments throug
 h out\n    - Buffet luncheon\n\nHELP Ministries is a social service hub in
  Harrisburg city\, providing a comprehensive approach to homelessness and 
 poverty alleviation. HELP is often a place of last resort for anyone needi
 ng assistance\, and for anyone in an emergency situation. HELP Ministries 
 is supported financially by area churches\, businesses\, local government 
 agencies\, concerned individuals\, PPL Electric Utilities\, Community Aid\
 ,  the United Way of the Capital Region\, and THIS GOLF TOURNAMENT. Regist
 er today to change the life of a neighbor in need!\n
DTSTART;TZID=America/New_York:20190603T074500
DTEND;TZID=America/New_York:20190603T140000
LOCATION:Sunset Golf Course 2601 Sunset Drive\, Middletown\, PA
SUMMARY:42nd Annual HELP Ministries Golf Tournament
END:VEVENT
END:VCALENDAR
