BEGIN:VCALENDAR
VERSION:2.0
PRODID:-//www.ccuhbg.org//NONSGML kigkonsult.se iCalcreator 2.30.10//
CALSCALE:GREGORIAN
METHOD:PUBLISH
UID:5c42083f-7763-46d2-95cb-7abbf4a8e3a4
X-WR-CALDESC:CCU’s ANNUAL CELEBRATION EVENT…\nBroadcasting Live from The Jo
 urney Church\n\n7pm-8pm\nTHE SHOW\nThe United In Love Variety Hour\n\n8:15
 -9:00pm\nTHE AFTERPARTY\nVia Zoom including Q&A with Dr. Drew Hart\, givea
 ways and more\n\nVIEWING OPTIONS:\nWatch Party Host: $250 (Includes refres
 hments for about 6 people delivered to your door)\nPatron Viewer: $150\nIn
 dividual Tickets: $10\n\nContact Steve Schwartz\, Director of Development\
 , at (717) 230-9550 or sschwartz@ccuhbg.org if you would like to discuss v
 iewing\, sponsorship and advertising opportunities. (Download flyer below 
 for listing of sponsorship levels.)\n\nALSO WANTED: Unique items for the o
 nline auction\, including gift baskets\, gift certificates (dining\, enter
 tainment\, specialty experiences or services\, etc.)\, vacation packages\,
  memorabilia\, or other item of value or intrigue.  Please deliver to CCU 
 by Oct. 23\, 2020.
X-WR-RELCALID:eb5e5e0ba05971bdaa26d39687f86f7c
X-WR-TIMEZONE:America/New_York
BEGIN:VTIMEZONE
TZID:America/New_York
BEGIN:STANDARD
TZNAME:EST
DTSTART:20201101T020000
TZOFFSETFROM:-0400
TZOFFSETTO:-0500
RDATE:20211107T020000
END:STANDARD
BEGIN:DAYLIGHT
TZNAME:EDT
DTSTART:20200308T020000
TZOFFSETFROM:-0500
TZOFFSETTO:-0400
RDATE:20210314T020000
RDATE:20220313T020000
END:DAYLIGHT
END:VTIMEZONE
BEGIN:VEVENT
UID:78230ecf-0d24-49c9-b5e1-40719c4e7b59
DTSTAMP:20260421T115921Z
DESCRIPTION:CCU’s ANNUAL CELEBRATION EVENT…\nBroadcasting Live from The Jou
 rney Church\n\n7pm-8pm\nTHE SHOW\nThe United In Love Variety Hour\n\n8:15-
 9:00pm\nTHE AFTERPARTY\nVia Zoom including Q&A with Dr. Drew Hart\, giveaw
 ays and more\n\nVIEWING OPTIONS:\nWatch Party Host: $250 (Includes refresh
 ments for about 6 people delivered to your door)\nPatron Viewer: $150\nInd
 ividual Tickets: $10\n\nContact Steve Schwartz\, Director of Development\,
  at (717) 230-9550 or sschwartz@ccuhbg.org if you would like to discuss vi
 ewing\, sponsorship and advertising opportunities. (Download flyer below f
 or listing of sponsorship levels.)\n\nALSO WANTED: Unique items for the on
 line auction\, including gift baskets\, gift certificates (dining\, entert
 ainment\, specialty experiences or services\, etc.)\, vacation packages\, 
 memorabilia\, or other item of value or intrigue.  Please deliver to CCU b
 y Oct. 23\, 2020.
DTSTART;TZID=America/New_York:20201110T190000
DTEND;TZID=America/New_York:20201110T210000
LOCATION:ONLINE EVENT: Link will be emailed to attendees prior to the event
 .
SUMMARY:2020 United In Love Variety Hour w/ Afterparty
END:VEVENT
END:VCALENDAR
