BEGIN:VCALENDAR
VERSION:2.0
PRODID:-//www.ccuhbg.org//NONSGML kigkonsult.se iCalcreator 2.30.10//
CALSCALE:GREGORIAN
METHOD:PUBLISH
UID:85ead3f3-933b-45a0-a09d-53fc6c44e084
X-WR-CALDESC:'I Am The Dream'\n6:30-7:30pm - MLK Commemoration Worship Serv
 ice* featuring Gospel Fellowship Church Choir\n7:30-8:30pm - Panel Convers
 ation with the Next Generation\n\nON FACEBOOK LIVE: http://www.facebook.co
 m/ccuhbg\n\nPanel to include:\n- Tamika Wesley\, President\, Unite Central
  PA\n- Table Youth Talk\, Harrisburg\, PA\n- Re. D. Marie Tribble\, Co-Mod
 erator\n- Aisha Mobley\, Co-Moderator\n\n* The Commemoration Worship Servi
 ce will include the celebration of Communion.  You are encouraged to have 
 communion elements with you wherever you are watching to join in this part
  of the service.
X-WR-RELCALID:fb027369b901c48ebcbbe72ed57dc9d0
X-WR-TIMEZONE:America/New_York
BEGIN:VTIMEZONE
TZID:America/New_York
BEGIN:STANDARD
TZNAME:EST
DTSTART:20201101T020000
TZOFFSETFROM:-0400
TZOFFSETTO:-0500
RDATE:20211107T020000
END:STANDARD
BEGIN:DAYLIGHT
TZNAME:EDT
DTSTART:20200308T020000
TZOFFSETFROM:-0500
TZOFFSETTO:-0400
RDATE:20210314T020000
RDATE:20220313T020000
END:DAYLIGHT
END:VTIMEZONE
BEGIN:VEVENT
UID:25d1e237-e96f-4775-b810-1abf4947cae8
DTSTAMP:20260421T085645Z
DESCRIPTION:'I Am The Dream'\n6:30-7:30pm - MLK Commemoration Worship Servi
 ce* featuring Gospel Fellowship Church Choir\n7:30-8:30pm - Panel Conversa
 tion with the Next Generation\n\nON FACEBOOK LIVE: http://www.facebook.com
 /ccuhbg\n\nPanel to include:\n- Tamika Wesley\, President\, Unite Central 
 PA\n- Table Youth Talk\, Harrisburg\, PA\n- Re. D. Marie Tribble\, Co-Mode
 rator\n- Aisha Mobley\, Co-Moderator\n\n* The Commemoration Worship Servic
 e will include the celebration of Communion.  You are encouraged to have c
 ommunion elements with you wherever you are watching to join in this part 
 of the service.
DTSTART;TZID=America/New_York:20210118T183000
DTEND;TZID=America/New_York:20210118T203000
LOCATION:ON FACEBOOK LIVE
SUMMARY:3rd Annual MLK Day Anti-Racism Event
END:VEVENT
END:VCALENDAR
