BEGIN:VCALENDAR
VERSION:2.0
PRODID:-//www.ccuhbg.org//NONSGML kigkonsult.se iCalcreator 2.30.10//
CALSCALE:GREGORIAN
METHOD:PUBLISH
UID:87702415-2667-4d4a-a38d-4d8851ef306e
X-WR-CALDESC:Join us in celebration of the Week of Prayer for Christian Uni
 ty!\nTogether in Prayer and Action: A Virtual Clergy Gathering\n\nThursday
 \, Jan. 21\, 9 am via Zoom\n\nGathering will include:\n• Prayer service ba
 sed on the theme for the week: “Abide in my love and you shall bear much f
 ruit”\n• Updates from Christian Churches United on meeting local needs dur
 ing the pandemic\n• A special update from the PA Council of Churches\n• Ti
 me for mutual encouragement and discussion\n\nFor more information or ques
 tions:\nContact Darrel Reinford at 717-230-9550 or dreinford@ccuhbg.org
X-WR-RELCALID:7341045997d85fb6a091f2f7d2603dfa
X-WR-TIMEZONE:America/New_York
BEGIN:VTIMEZONE
TZID:America/New_York
BEGIN:STANDARD
TZNAME:EST
DTSTART:20201101T020000
TZOFFSETFROM:-0400
TZOFFSETTO:-0500
RDATE:20211107T020000
END:STANDARD
BEGIN:DAYLIGHT
TZNAME:EDT
DTSTART:20200308T020000
TZOFFSETFROM:-0500
TZOFFSETTO:-0400
RDATE:20210314T020000
RDATE:20220313T020000
END:DAYLIGHT
END:VTIMEZONE
BEGIN:VEVENT
UID:7003c5a8-29e7-46be-bc9c-2f45bd27ec23
DTSTAMP:20260423T083527Z
DESCRIPTION:Join us in celebration of the Week of Prayer for Christian Unit
 y!\nTogether in Prayer and Action: A Virtual Clergy Gathering\n\nThursday\
 , Jan. 21\, 9 am via Zoom\n\nGathering will include:\n• Prayer service bas
 ed on the theme for the week: “Abide in my love and you shall bear much fr
 uit”\n• Updates from Christian Churches United on meeting local needs duri
 ng the pandemic\n• A special update from the PA Council of Churches\n• Tim
 e for mutual encouragement and discussion\n\nFor more information or quest
 ions:\nContact Darrel Reinford at 717-230-9550 or dreinford@ccuhbg.org
DTSTART;TZID=America/New_York:20210121T090000
DTEND;TZID=America/New_York:20210121T100000
LOCATION:ONLINE EVENT via ZOOM
SUMMARY:Clergy Gathering: Together in Prayer and Action
END:VEVENT
END:VCALENDAR
