BEGIN:VCALENDAR
VERSION:2.0
PRODID:-//www.ccuhbg.org//NONSGML kigkonsult.se iCalcreator 2.30.10//
CALSCALE:GREGORIAN
METHOD:PUBLISH
UID:6d204d32-0829-4f8a-8680-97f39452464c
X-WR-CALDESC:Hosted by the Race & Unity Action Coalition...sharing our stor
 ies about race in the capital region.\n\nJoin us for this 2 hour discussio
 n via ZOOM. Our theme for this occasion is “Disparities in Education: East
  Shore/West Shore.” \n\nPre-registration required. Click Pre-Register abov
 e and submit your Name and E-mail and you will receive a Zoom link prior t
 o the meeting.\n\nPre-registration:\n1) On the first screen\, enter the nu
 mber of people you are registering\n2) Click continue\, and enter the name
 s of each person attending\n3) Click continue\, and enter your name and e-
 mail address. (if you are registering for just yourself\, you have to ente
 r your name on each page\, sorry.)
X-WR-RELCALID:ccc776ef40c0ea0e10a00e3cfc15ddbd
X-WR-TIMEZONE:America/New_York
BEGIN:VTIMEZONE
TZID:America/New_York
BEGIN:STANDARD
TZNAME:EST
DTSTART:20201101T020000
TZOFFSETFROM:-0400
TZOFFSETTO:-0500
RDATE:20211107T020000
END:STANDARD
BEGIN:DAYLIGHT
TZNAME:EDT
DTSTART:20200308T020000
TZOFFSETFROM:-0500
TZOFFSETTO:-0400
RDATE:20210314T020000
RDATE:20220313T020000
END:DAYLIGHT
END:VTIMEZONE
BEGIN:VEVENT
UID:b155575a-974e-4ba6-a5d2-068aa656c22f
DTSTAMP:20260421T071807Z
DESCRIPTION:Hosted by the Race & Unity Action Coalition...sharing our stori
 es about race in the capital region.\n\nJoin us for this 2 hour discussion
  via ZOOM. Our theme for this occasion is “Disparities in Education: East 
 Shore/West Shore.” \n\nPre-registration required. Click Pre-Register above
  and submit your Name and E-mail and you will receive a Zoom link prior to
  the meeting.\n\nPre-registration:\n1) On the first screen\, enter the num
 ber of people you are registering\n2) Click continue\, and enter the names
  of each person attending\n3) Click continue\, and enter your name and e-m
 ail address. (if you are registering for just yourself\, you have to enter
  your name on each page\, sorry.)
DTSTART;TZID=America/New_York:20210222T180000
DTEND;TZID=America/New_York:20210222T200000
LOCATION:ZOOM MEETING
SUMMARY:Chat & Chew
END:VEVENT
END:VCALENDAR
