BEGIN:VCALENDAR
VERSION:2.0
PRODID:-//www.ccuhbg.org//NONSGML kigkonsult.se iCalcreator 2.30.10//
CALSCALE:GREGORIAN
METHOD:PUBLISH
UID:813af340-adde-4dae-b51e-db06797ee818
X-WR-CALDESC:Hosted by the Race & Unity Action Coalition...sharing our stor
 ies about race in the capital region.\n\nJoin us for this 2 hour discussio
 n via ZOOM. Our conversation will focus on the George Floyd Trial and othe
 r recent happenings in the news. \n\nPre-registration required. Click Pre-
 Register above and submit your Name and E-mail and you will receive a Zoom
  link prior to the meeting.\n\nPre-registration:\n1) On the first screen\,
  enter the number of people you are registering\n2) Click continue\, and e
 nter the names of each person attending\n3) Click continue\, and enter you
 r name and e-mail address. (if you are registering for just yourself\, you
  have to enter your name on each page\, sorry.)
X-WR-RELCALID:74ba3b93e745ced733a83776d94653be
X-WR-TIMEZONE:America/New_York
BEGIN:VTIMEZONE
TZID:America/New_York
BEGIN:STANDARD
TZNAME:EST
DTSTART:20201101T020000
TZOFFSETFROM:-0400
TZOFFSETTO:-0500
RDATE:20211107T020000
END:STANDARD
BEGIN:DAYLIGHT
TZNAME:EDT
DTSTART:20210314T020000
TZOFFSETFROM:-0500
TZOFFSETTO:-0400
RDATE:20220313T020000
END:DAYLIGHT
END:VTIMEZONE
BEGIN:VEVENT
UID:0dc2e967-b5d4-4a3c-a5a3-06ea78d4096a
DTSTAMP:20260421T035017Z
DESCRIPTION:Hosted by the Race & Unity Action Coalition...sharing our stori
 es about race in the capital region.\n\nJoin us for this 2 hour discussion
  via ZOOM. Our conversation will focus on the George Floyd Trial and other
  recent happenings in the news. \n\nPre-registration required. Click Pre-R
 egister above and submit your Name and E-mail and you will receive a Zoom 
 link prior to the meeting.\n\nPre-registration:\n1) On the first screen\, 
 enter the number of people you are registering\n2) Click continue\, and en
 ter the names of each person attending\n3) Click continue\, and enter your
  name and e-mail address. (if you are registering for just yourself\, you 
 have to enter your name on each page\, sorry.)
DTSTART;TZID=America/New_York:20210426T180000
DTEND;TZID=America/New_York:20210426T200000
LOCATION:ZOOM MEETING
SUMMARY:Chat & Chew
END:VEVENT
END:VCALENDAR
