BEGIN:VCALENDAR
VERSION:2.0
PRODID:-//www.ccuhbg.org//NONSGML kigkonsult.se iCalcreator 2.30.10//
CALSCALE:GREGORIAN
METHOD:PUBLISH
UID:7f7f662a-1d37-479c-83c4-21eaea30f822
X-WR-CALDESC:At this year’s Spring Assembly\, our annual meeting and inform
 ational session for local congregations and other supporters\, we will sha
 re stories of resiliency and hope amidst the pandemic and discuss ways of 
 strengthening our mission in the coming year. As part of the evening\, mem
 ber church representatives elect our board of directors and pass our budge
 t for the coming year. We also hand out our annual Peacemaker Award and Ch
 arles Dorsey awards.\n\nThis year\, we are holding Spring Assembly by Zoom
 . If you want to get involved with the ministries of CCU\, this is a treme
 ndous night to join us!\n\n6:15pm Zoom Meeting Opens\n6:30pm Zoom Meeting 
 Begins\n\nThere is no cost to attend\, but please register so we can send 
 you the Zoom meeting information and plan accordingly.
X-WR-RELCALID:459409fb8edfe95845ff2ee4159132fe
X-WR-TIMEZONE:America/New_York
BEGIN:VTIMEZONE
TZID:America/New_York
BEGIN:STANDARD
TZNAME:EST
DTSTART:20201101T020000
TZOFFSETFROM:-0400
TZOFFSETTO:-0500
RDATE:20211107T020000
RDATE:20221106T020000
END:STANDARD
BEGIN:DAYLIGHT
TZNAME:EDT
DTSTART:20210314T020000
TZOFFSETFROM:-0500
TZOFFSETTO:-0400
RDATE:20220313T020000
END:DAYLIGHT
END:VTIMEZONE
BEGIN:VEVENT
UID:f65c71aa-be0e-436d-80a2-e0d7813153d7
DTSTAMP:20260421T020638Z
DESCRIPTION:At this year’s Spring Assembly\, our annual meeting and informa
 tional session for local congregations and other supporters\, we will shar
 e stories of resiliency and hope amidst the pandemic and discuss ways of s
 trengthening our mission in the coming year. As part of the evening\, memb
 er church representatives elect our board of directors and pass our budget
  for the coming year. We also hand out our annual Peacemaker Award and Cha
 rles Dorsey awards.\n\nThis year\, we are holding Spring Assembly by Zoom.
  If you want to get involved with the ministries of CCU\, this is a tremen
 dous night to join us!\n\n6:15pm Zoom Meeting Opens\n6:30pm Zoom Meeting B
 egins\n\nThere is no cost to attend\, but please register so we can send y
 ou the Zoom meeting information and plan accordingly.
DTSTART;TZID=America/New_York:20210510T183000
DTEND;TZID=America/New_York:20210510T203000
LOCATION:ZOOM MEETING
SUMMARY:2021 Spring Assembly
END:VEVENT
END:VCALENDAR
