BEGIN:VCALENDAR
VERSION:2.0
PRODID:-//www.ccuhbg.org//NONSGML kigkonsult.se iCalcreator 2.30.10//
CALSCALE:GREGORIAN
METHOD:PUBLISH
UID:91cb5dcf-e981-47f5-97bb-48bb44c2aa63
X-WR-CALDESC:<b>Schedule:</b>\n7:15am: Registration/Refreshments\n8:00am: S
 hotgun Start (18-hole team scramble)\nWith Outdoor Lunch Following\n\n<b>C
 ourse Imposed COVID-19 Adjustments</b>\n1. Arrive\, check-in\, go directly
  to hole. You can practice at hole until start. \n2. Elements that lead to
  congregating at the start\, such as mulligan purchasing and donuts\, are 
 eliminated. (Mulligans can be purchased NOW via this website.)\n3. Mask re
 quired in and around clubhouse. Once on course\, each team can choose for 
 themselves their comfort level with masks.\n4. Currently\, golfers may rid
 e 2 to a cart. This may change.  Please exercise sensible social distancin
 g at all times around your teammates and other teams.\n5. Due to limited v
 olunteers\, skill prizes requiring witnesses (i.e. hole-in-one) are elimin
 ated. Other skill prizes (longest drive\, closest to pin\, etc.) continue.
 \n6. Lunch/Awards will be provided outdoors.\n\n<i>The above adjustments a
 re subject to change due to guidance from the course or health/government 
 officials. We appreciate your patience and understanding this year. Contac
 t Steve Schwartz at sschwartz@ccuhbg.org or (717) 230-9550 for info or que
 stions.</i>\n\n<b>Sponsorship:</b>\n<b><i>HOPE & HELP Team/Sponsor: $3\,00
 0</i></b>\n--8 golfers\, 2 hole signs\, full pg ad\, banner\, overall even
 t spotlight\, market exclusive\n--IMPACT: Providing HOPE and HELP through 
 HELP Ministries\n<b><i>RAPID REHOUSING Team/Sponsor: $1\,500</i></b>\n--4 
 golfers\, 2 hole signs\, full page ad\, lunch spotlight\n--IMPACT: Help ho
 meless households quickly gain long-term housing\n<b><i>HOMELESS PREVENTIO
 N Team/Sponsor: $750</i></b>\n--4 golfers\, 1 sign\, 1/2 pg ad\, snack sta
 nd spotlight\n--IMPACT: Help households resolve a crisis and avoid homeles
 sness\n<b><i>HELPING HAND Sponsor: $300</i></b>\n--1 hole sign\, quarter p
 age ad\n\n<b>Registration:</b>\nGolf Team w/ Hole Sponsor: $500 (4 golfers
  w/ hole sign)\nGolf Team: $400 (4 golfers)\nIndividual Golfers: $100\n\n<
 b>Additional Options:</b>\nHole Sponsor: $150 (1 hole sign\; name in progr
 am)\nPatron/Remote* Golfer: $50 (name in program)\n* Typically about $50 o
 f your registration fee goes to program support...so this is a way you can
  support the programs of HELP Ministries if unable to play this year.\n\n<
 b>Registration Includes:</b>\n--Cart Rental and Greens Fees\n--Team and Sk
 ill Prizes/Awards\n--Refreshment Stand & Outdoor Lunch\n--Support of HELP 
 Ministries Programs\n\n\n\n\n\n<b>About HELP Ministries</b>\nHELP Ministri
 es\, a program of Christian Churches United of the Tri County Area\, is su
 pported by local churches\, businesses\, government agencies\, concerned i
 ndividuals\, PPL\, Community Aid\, the United Way of the Capital Region\, 
 <b><i>and this golf tournament.</i></b>\n\n<b>HELP Ministries is supportin
 g those who lost jobs\, had their small business shut down\, or otherwise 
 had significantly reduced income to pay their rent during the COVID-19 pan
 demic.</b> You can help individuals\, kids and families avoid the trauma o
 f losing everything and having to start over. Register today to change the
  life of a neighbor in need!
X-WR-RELCALID:4a929edab07cd91b29d0baf17ca5391a
X-WR-TIMEZONE:America/New_York
BEGIN:VTIMEZONE
TZID:America/New_York
BEGIN:STANDARD
TZNAME:EST
DTSTART:20201101T020000
TZOFFSETFROM:-0400
TZOFFSETTO:-0500
RDATE:20211107T020000
RDATE:20221106T020000
END:STANDARD
BEGIN:DAYLIGHT
TZNAME:EDT
DTSTART:20210314T020000
TZOFFSETFROM:-0500
TZOFFSETTO:-0400
RDATE:20220313T020000
END:DAYLIGHT
END:VTIMEZONE
BEGIN:VEVENT
UID:7942ece4-ba2c-452e-9366-cfd0bdd70af9
DTSTAMP:20260421T003338Z
DESCRIPTION:<b>Schedule:</b>\n7:15am: Registration/Refreshments\n8:00am: Sh
 otgun Start (18-hole team scramble)\nWith Outdoor Lunch Following\n\n<b>Co
 urse Imposed COVID-19 Adjustments</b>\n1. Arrive\, check-in\, go directly 
 to hole. You can practice at hole until start. \n2. Elements that lead to 
 congregating at the start\, such as mulligan purchasing and donuts\, are e
 liminated. (Mulligans can be purchased NOW via this website.)\n3. Mask req
 uired in and around clubhouse. Once on course\, each team can choose for t
 hemselves their comfort level with masks.\n4. Currently\, golfers may ride
  2 to a cart. This may change.  Please exercise sensible social distancing
  at all times around your teammates and other teams.\n5. Due to limited vo
 lunteers\, skill prizes requiring witnesses (i.e. hole-in-one) are elimina
 ted. Other skill prizes (longest drive\, closest to pin\, etc.) continue.
 \n6. Lunch/Awards will be provided outdoors.\n\n<i>The above adjustments a
 re subject to change due to guidance from the course or health/government 
 officials. We appreciate your patience and understanding this year. Contac
 t Steve Schwartz at sschwartz@ccuhbg.org or (717) 230-9550 for info or que
 stions.</i>\n\n<b>Sponsorship:</b>\n<b><i>HOPE & HELP Team/Sponsor: $3\,00
 0</i></b>\n--8 golfers\, 2 hole signs\, full pg ad\, banner\, overall even
 t spotlight\, market exclusive\n--IMPACT: Providing HOPE and HELP through 
 HELP Ministries\n<b><i>RAPID REHOUSING Team/Sponsor: $1\,500</i></b>\n--4 
 golfers\, 2 hole signs\, full page ad\, lunch spotlight\n--IMPACT: Help ho
 meless households quickly gain long-term housing\n<b><i>HOMELESS PREVENTIO
 N Team/Sponsor: $750</i></b>\n--4 golfers\, 1 sign\, 1/2 pg ad\, snack sta
 nd spotlight\n--IMPACT: Help households resolve a crisis and avoid homeles
 sness\n<b><i>HELPING HAND Sponsor: $300</i></b>\n--1 hole sign\, quarter p
 age ad\n\n<b>Registration:</b>\nGolf Team w/ Hole Sponsor: $500 (4 golfers
  w/ hole sign)\nGolf Team: $400 (4 golfers)\nIndividual Golfers: $100\n\n<
 b>Additional Options:</b>\nHole Sponsor: $150 (1 hole sign\; name in progr
 am)\nPatron/Remote* Golfer: $50 (name in program)\n* Typically about $50 o
 f your registration fee goes to program support...so this is a way you can
  support the programs of HELP Ministries if unable to play this year.\n\n<
 b>Registration Includes:</b>\n--Cart Rental and Greens Fees\n--Team and Sk
 ill Prizes/Awards\n--Refreshment Stand & Outdoor Lunch\n--Support of HELP 
 Ministries Programs\n\n\n\n\n\n<b>About HELP Ministries</b>\nHELP Ministri
 es\, a program of Christian Churches United of the Tri County Area\, is su
 pported by local churches\, businesses\, government agencies\, concerned i
 ndividuals\, PPL\, Community Aid\, the United Way of the Capital Region\, 
 <b><i>and this golf tournament.</i></b>\n\n<b>HELP Ministries is supportin
 g those who lost jobs\, had their small business shut down\, or otherwise 
 had significantly reduced income to pay their rent during the COVID-19 pan
 demic.</b> You can help individuals\, kids and families avoid the trauma o
 f losing everything and having to start over. Register today to change the
  life of a neighbor in need!
DTSTART;TZID=America/New_York:20210607T071500
DTEND;TZID=America/New_York:20210607T130000
LOCATION:Sunset Golf Course 2601 Sunset Drive\, Middletown\, PA
SUMMARY:44th Annual HELP Ministries Golf Tournament
END:VEVENT
END:VCALENDAR
