BEGIN:VCALENDAR
VERSION:2.0
PRODID:-//www.ccuhbg.org//NONSGML kigkonsult.se iCalcreator 2.30.10//
CALSCALE:GREGORIAN
METHOD:PUBLISH
UID:872c34fc-fe3c-459e-9ca5-f56506807ff2
X-WR-CALDESC:Hosted by the Race & Unity Action Coalition...sharing our stor
 ies about race in the capital region.\n\nJoin us for this 2 hour discussio
 n via ZOOM. We will be discussing Critical Race Theory\, sorting through t
 he facts and myths that have made this a polarizing topic in our communiti
 es.\n\nPre-registration required. Click Pre-Register above and submit your
  Name and E-mail and you will receive a Zoom link prior to the meeting.\n
 \nPre-registration:\n1) On the first screen\, enter the number of people y
 ou are registering\n2) Click continue\, and enter the names of each person
  attending\n3) Click continue\, and enter your name and e-mail address. (i
 f you are registering for just yourself\, you have to enter your name on e
 ach page\, sorry.)\n\n<i>The Race and Unity Action Coalition is a wonderfu
 lly diverse group of people from congregations on the East and West Shore 
 interested in continuing the conversation on race and the local impact of 
 racism.</i>
X-WR-RELCALID:9adaaf3a3125b1acfba1e560f9938211
X-WR-TIMEZONE:America/New_York
BEGIN:VTIMEZONE
TZID:America/New_York
BEGIN:STANDARD
TZNAME:EST
DTSTART:20201101T020000
TZOFFSETFROM:-0400
TZOFFSETTO:-0500
RDATE:20211107T020000
RDATE:20221106T020000
END:STANDARD
BEGIN:DAYLIGHT
TZNAME:EDT
DTSTART:20210314T020000
TZOFFSETFROM:-0500
TZOFFSETTO:-0400
RDATE:20220313T020000
RDATE:20230312T020000
END:DAYLIGHT
END:VTIMEZONE
BEGIN:VEVENT
UID:4a627139-b5df-4b9a-81e4-e166407d0151
DTSTAMP:20260420T192141Z
DESCRIPTION:Hosted by the Race & Unity Action Coalition...sharing our stori
 es about race in the capital region.\n\nJoin us for this 2 hour discussion
  via ZOOM. We will be discussing Critical Race Theory\, sorting through th
 e facts and myths that have made this a polarizing topic in our communitie
 s.\n\nPre-registration required. Click Pre-Register above and submit your 
 Name and E-mail and you will receive a Zoom link prior to the meeting.\n\n
 Pre-registration:\n1) On the first screen\, enter the number of people you
  are registering\n2) Click continue\, and enter the names of each person a
 ttending\n3) Click continue\, and enter your name and e-mail address. (if 
 you are registering for just yourself\, you have to enter your name on eac
 h page\, sorry.)\n\n<i>The Race and Unity Action Coalition is a wonderfull
 y diverse group of people from congregations on the East and West Shore in
 terested in continuing the conversation on race and the local impact of ra
 cism.</i>
DTSTART;TZID=America/New_York:20210916T183000
DTEND;TZID=America/New_York:20210916T203000
LOCATION:ZOOM MEETING
SUMMARY:Chat & Chew
END:VEVENT
END:VCALENDAR
