BEGIN:VCALENDAR
VERSION:2.0
PRODID:-//www.ccuhbg.org//NONSGML kigkonsult.se iCalcreator 2.30.10//
CALSCALE:GREGORIAN
METHOD:PUBLISH
UID:3808be7f-efb5-4398-ab3f-c3bb8722ff15
X-WR-CALDESC:<b><i>Auction\, Dinner and Joy To The Burg Album Pre-Release P
 arty</i></b>\n\nFeaturing special guest speaker The Rt. Rev. Dr. Audrey Sc
 anlan\, Bishop of the Episcopal Diocese of Central Pennsylvania\n\n<b>REGI
 STRATION</b>\nJoin us in-person or via streaming broadcast\n\nIN PERSON Si
 ngle Registration: $50 \nIN PERSON Table of 6 seats: $300\nBROADCAST Ticke
 ts: FREE\n\n<i>Please be aware of these COVID-19 Safety Protocols for IN P
 ERSON Attendance (In consultation with venue):</i>\n   a. In-person seatin
 g is limited to 120 guests.\n   b. Six people per table instead of eight t
 o allow greater physical distancing.\n   c. Face masks required when not e
 ating (i.e. required even when seated at your table before and after eatin
 g).\n   d. Plated food delivered to each guest (i.e. no buffet line).\n   
 e. Silent auction will be online (so that guests can bid via smart phone w
 hile seated at their table or via computer or phone if not attending in pe
 rson).\n   f. ON NOVEMBER 9: If you have any COVID symptoms\, are awaiting
  test results\, or have been recently in close contact with a COVID positi
 ve person\, please do not attend in person. Please contact us at <b>celebr
 ate@ccuhbg.org</b> for a no-questions-asked refund and you will be provide
 d with instructions for the broadcast.\n\n<b>SPONSORSHIP</b>\nContact Stev
 e Schwartz\, Director of Development\, at <b>(717) 230-9550</b> or <b>ssch
 wartz@ccuhbg.org</b> for sponsorship and advertising opportunities. (Downl
 oad flyer below for listing of sponsorship levels and ad pricing.)\n\n<b>O
 NLINE AUCTION</b>\nAlso needed: Donations for our online silent auction. P
 lease consider donating a specialty basket\, gift certificate for goods or
  services\, vacation package\, handmade item\, or other item of value or i
 ntrigue.  (See downloadable flyer below or fill out our <b><a href='https:
 //www.ccuhbg.org/united-in-love-auction-donation/united-in-love-auction-do
 nation-form.html'>online Auction Interest Form</a></b>.) Please deliver to
  CCU by Oct. 22\, 2021.
X-WR-RELCALID:9e3dd9ecfd347d540ebc336124385262
X-WR-TIMEZONE:America/New_York
BEGIN:VTIMEZONE
TZID:America/New_York
BEGIN:STANDARD
TZNAME:EST
DTSTART:20211107T020000
TZOFFSETFROM:-0400
TZOFFSETTO:-0500
RDATE:20221106T020000
END:STANDARD
BEGIN:DAYLIGHT
TZNAME:EDT
DTSTART:20210314T020000
TZOFFSETFROM:-0500
TZOFFSETTO:-0400
RDATE:20220313T020000
RDATE:20230312T020000
END:DAYLIGHT
END:VTIMEZONE
BEGIN:VEVENT
UID:d88fc1ae-8f49-4e89-b457-5f9c71eb9c87
DTSTAMP:20260420T160032Z
DESCRIPTION:<b><i>Auction\, Dinner and Joy To The Burg Album Pre-Release Pa
 rty</i></b>\n\nFeaturing special guest speaker The Rt. Rev. Dr. Audrey Sca
 nlan\, Bishop of the Episcopal Diocese of Central Pennsylvania\n\n<b>REGIS
 TRATION</b>\nJoin us in-person or via streaming broadcast\n\nIN PERSON Sin
 gle Registration: $50 \nIN PERSON Table of 6 seats: $300\nBROADCAST Ticket
 s: FREE\n\n<i>Please be aware of these COVID-19 Safety Protocols for IN PE
 RSON Attendance (In consultation with venue):</i>\n   a. In-person seating
  is limited to 120 guests.\n   b. Six people per table instead of eight to
  allow greater physical distancing.\n   c. Face masks required when not ea
 ting (i.e. required even when seated at your table before and after eating
 ).\n   d. Plated food delivered to each guest (i.e. no buffet line).\n   e
 . Silent auction will be online (so that guests can bid via smart phone wh
 ile seated at their table or via computer or phone if not attending in per
 son).\n   f. ON NOVEMBER 9: If you have any COVID symptoms\, are awaiting 
 test results\, or have been recently in close contact with a COVID positiv
 e person\, please do not attend in person. Please contact us at <b>celebra
 te@ccuhbg.org</b> for a no-questions-asked refund and you will be provided
  with instructions for the broadcast.\n\n<b>SPONSORSHIP</b>\nContact Steve
  Schwartz\, Director of Development\, at <b>(717) 230-9550</b> or <b>sschw
 artz@ccuhbg.org</b> for sponsorship and advertising opportunities. (Downlo
 ad flyer below for listing of sponsorship levels and ad pricing.)\n\n<b>ON
 LINE AUCTION</b>\nAlso needed: Donations for our online silent auction. Pl
 ease consider donating a specialty basket\, gift certificate for goods or 
 services\, vacation package\, handmade item\, or other item of value or in
 trigue.  (See downloadable flyer below or fill out our <b><a href='https:/
 /www.ccuhbg.org/united-in-love-auction-donation/united-in-love-auction-don
 ation-form.html'>online Auction Interest Form</a></b>.) Please deliver to 
 CCU by Oct. 22\, 2021.
DTSTART;TZID=America/New_York:20211109T173000
DTEND;TZID=America/New_York:20211109T203000
LOCATION:The Wesley Center at Camp Hill United Methodist Church\, 417 South
  22nd St\, Camp Hill\, PA 17011
SUMMARY:United In Love Banquet 2021
END:VEVENT
END:VCALENDAR
