BEGIN:VCALENDAR
VERSION:2.0
PRODID:-//www.ccuhbg.org//NONSGML kigkonsult.se iCalcreator 2.30.10//
CALSCALE:GREGORIAN
METHOD:PUBLISH
UID:09c92d03-6256-4ab3-97fb-254d78a8a1c6
X-WR-CALDESC:4th Annual MLK Day Anti-Racism Event\nHosted by the Race & Uni
 ty Action Coalition\n\nGuest Preacher: Rev. Carla Christopher-Wilson\nWors
 hip Leader: Rev. D. Marie Tribble\nHost Pastor: Rev. Jason Schwartzman\n\n
 Seating is limited to 50 in-person guests to allow for social distancing i
 n the sanctuary. Therefore\, registration required. Event will also be liv
 estreamed. \n\nRegistration Instructions:\nA. FOR IN PERSON GUESTS\n1) Cli
 ck Register above and then select the number of 'In Person Tickets' you wi
 sh to reserve.\n2) Click continue\, enter the name and information of each
  person attending in person.\n3) Click continue\, enter your name and e-ma
 il address. (if you are registering for just yourself\, you have to enter 
 your name on each page\, sorry.)\n\nB. FOR THOSE WISHING TO VIEW THE LIVE 
 STREAM\n1) Click Register above and then select the number of people for w
 hich you would like to make a 'Livestream Registration'.\n2) Click continu
 e\, enter the name and information of each person you are registering.\n3)
  Click continue\, enter your name and e-mail address. (if you are register
 ing for just yourself\, you have to enter your name on each page\, sorry.)
 \n\nPlease register by noon on January 17\, 2022. \n\n<i>The Race and Unit
 y Action Coalition is a wonderfully diverse group of people from congregat
 ions on the East and West Shore interested in continuing the conversation 
 on race and the local impact of racism.</i>
X-WR-RELCALID:84ef70fa45035d085843f3b434518f1d
X-WR-TIMEZONE:America/New_York
BEGIN:VTIMEZONE
TZID:America/New_York
BEGIN:STANDARD
TZNAME:EST
DTSTART:20211107T020000
TZOFFSETFROM:-0400
TZOFFSETTO:-0500
RDATE:20221106T020000
END:STANDARD
BEGIN:DAYLIGHT
TZNAME:EDT
DTSTART:20210314T020000
TZOFFSETFROM:-0500
TZOFFSETTO:-0400
RDATE:20220313T020000
RDATE:20230312T020000
END:DAYLIGHT
END:VTIMEZONE
BEGIN:VEVENT
UID:19ef1877-4cc1-4f1b-b05f-ff56856a381a
DTSTAMP:20260420T123701Z
DESCRIPTION:4th Annual MLK Day Anti-Racism Event\nHosted by the Race & Unit
 y Action Coalition\n\nGuest Preacher: Rev. Carla Christopher-Wilson\nWorsh
 ip Leader: Rev. D. Marie Tribble\nHost Pastor: Rev. Jason Schwartzman\n\nS
 eating is limited to 50 in-person guests to allow for social distancing in
  the sanctuary. Therefore\, registration required. Event will also be live
 streamed. \n\nRegistration Instructions:\nA. FOR IN PERSON GUESTS\n1) Clic
 k Register above and then select the number of 'In Person Tickets' you wis
 h to reserve.\n2) Click continue\, enter the name and information of each 
 person attending in person.\n3) Click continue\, enter your name and e-mai
 l address. (if you are registering for just yourself\, you have to enter y
 our name on each page\, sorry.)\n\nB. FOR THOSE WISHING TO VIEW THE LIVE S
 TREAM\n1) Click Register above and then select the number of people for wh
 ich you would like to make a 'Livestream Registration'.\n2) Click continue
 \, enter the name and information of each person you are registering.\n3) 
 Click continue\, enter your name and e-mail address. (if you are registeri
 ng for just yourself\, you have to enter your name on each page\, sorry.)
 \n\nPlease register by noon on January 17\, 2022. \n\n<i>The Race and Unit
 y Action Coalition is a wonderfully diverse group of people from congregat
 ions on the East and West Shore interested in continuing the conversation 
 on race and the local impact of racism.</i>
DTSTART;TZID=America/New_York:20220117T180000
DTEND;TZID=America/New_York:20220117T200000
LOCATION:Grace UMC Lemoyne\, 309 Herman Ave\, Lemoyne\, PA 17043
SUMMARY:4th Annual MLK Anti-Racism Event
END:VEVENT
END:VCALENDAR
