BEGIN:VCALENDAR
VERSION:2.0
PRODID:-//www.ccuhbg.org//NONSGML kigkonsult.se iCalcreator 2.30.10//
CALSCALE:GREGORIAN
METHOD:PUBLISH
UID:d5c002dd-0f89-48da-a2ca-1d563af9e848
X-WR-CALDESC:Hosted by the Race & Unity Action Coalition...sharing our stor
 ies about race in the capital region.\n\nJoin us for this 2 hour discussio
 n via ZOOM. We will be discussing Book Bans: what we choose to teach and n
 ot teach our children.\n\nPre-registration required. Click Pre-Register ab
 ove and submit your Name and E-mail and you will receive a Zoom link prior
  to the meeting.\n\nPre-registration:\n1) On the first screen\, enter the 
 number of people you are registering\n2) Click continue\, and enter the na
 mes of each person attending\n3) Click continue\, and enter your name and 
 e-mail address. (if you are registering for just yourself\, you have to en
 ter your name on each page\, sorry.)\n\n<i>The Race and Unity Action Coali
 tion is a wonderfully diverse group of people from congregations on the Ea
 st and West Shore interested in continuing the conversation on race and th
 e local impact of racism.</i>
X-WR-RELCALID:742a51ef8df14fead4db2142f42ed636
X-WR-TIMEZONE:America/New_York
BEGIN:VTIMEZONE
TZID:America/New_York
BEGIN:STANDARD
TZNAME:EST
DTSTART:20211107T020000
TZOFFSETFROM:-0400
TZOFFSETTO:-0500
RDATE:20221106T020000
END:STANDARD
BEGIN:DAYLIGHT
TZNAME:EDT
DTSTART:20210314T020000
TZOFFSETFROM:-0500
TZOFFSETTO:-0400
RDATE:20220313T020000
RDATE:20230312T020000
END:DAYLIGHT
END:VTIMEZONE
BEGIN:VEVENT
UID:b24416e9-b583-4175-8d45-61ddce5fc441
DTSTAMP:20260420T092310Z
DESCRIPTION:Hosted by the Race & Unity Action Coalition...sharing our stori
 es about race in the capital region.\n\nJoin us for this 2 hour discussion
  via ZOOM. We will be discussing Book Bans: what we choose to teach and no
 t teach our children.\n\nPre-registration required. Click Pre-Register abo
 ve and submit your Name and E-mail and you will receive a Zoom link prior 
 to the meeting.\n\nPre-registration:\n1) On the first screen\, enter the n
 umber of people you are registering\n2) Click continue\, and enter the nam
 es of each person attending\n3) Click continue\, and enter your name and e
 -mail address. (if you are registering for just yourself\, you have to ent
 er your name on each page\, sorry.)\n\n<i>The Race and Unity Action Coalit
 ion is a wonderfully diverse group of people from congregations on the Eas
 t and West Shore interested in continuing the conversation on race and the
  local impact of racism.</i>
DTSTART;TZID=America/New_York:20220307T183000
DTEND;TZID=America/New_York:20220307T203000
LOCATION:ZOOM MEETING
SUMMARY:Chat & Chew
END:VEVENT
END:VCALENDAR
