BEGIN:VCALENDAR
VERSION:2.0
PRODID:-//www.ccuhbg.org//NONSGML kigkonsult.se iCalcreator 2.30.10//
CALSCALE:GREGORIAN
METHOD:PUBLISH
UID:2cd0144f-0210-4399-9de6-21d5c91bca28
X-WR-CALDESC:<b>REGISTRATION IS CLOSED. TO BE ADDED TO A CANCELLATION LIST\
 , CALL OR EMAIL LAURA DALTON (717-230-9550 or <a href='mailto:ldalton@ccuh
 bg.org'>ldalton@ccuhbg.org</a>).</b>\n\nAt this year’s Spring Assembly\, o
 ur annual meeting for local congregations and other supporters\, we will d
 iscuss how to ensure there is a seat at the table for our most vulnerable 
 community members\, while we enjoy gathering in person for Spring Assembly
  for the first time in three years. Join us for an evening of fellowship a
 nd engagement.\n\nIf you want to get involved with the ministries of CCU\,
  this is a tremendous night to join us!\n\n<b>5:30pm Registration\n6:15pm 
 Dinner followed by Program</b>\n\nThere is no cost to attend\, but a free 
 will offering will be taken to cover the cost of the meal.
X-WR-RELCALID:3eef5c0d7a70a0f6827e57cf6643f0db
X-WR-TIMEZONE:America/New_York
BEGIN:VTIMEZONE
TZID:America/New_York
BEGIN:STANDARD
TZNAME:EST
DTSTART:20211107T020000
TZOFFSETFROM:-0400
TZOFFSETTO:-0500
RDATE:20221106T020000
RDATE:20231105T020000
END:STANDARD
BEGIN:DAYLIGHT
TZNAME:EDT
DTSTART:20220313T020000
TZOFFSETFROM:-0500
TZOFFSETTO:-0400
RDATE:20230312T020000
END:DAYLIGHT
END:VTIMEZONE
BEGIN:VEVENT
UID:fdd43816-dffd-4c7c-9f74-5d767be0e126
DTSTAMP:20260420T061548Z
DESCRIPTION:<b>REGISTRATION IS CLOSED. TO BE ADDED TO A CANCELLATION LIST\,
  CALL OR EMAIL LAURA DALTON (717-230-9550 or <a href='mailto:ldalton@ccuhb
 g.org'>ldalton@ccuhbg.org</a>).</b>\n\nAt this year’s Spring Assembly\, ou
 r annual meeting for local congregations and other supporters\, we will di
 scuss how to ensure there is a seat at the table for our most vulnerable c
 ommunity members\, while we enjoy gathering in person for Spring Assembly 
 for the first time in three years. Join us for an evening of fellowship an
 d engagement.\n\nIf you want to get involved with the ministries of CCU\, 
 this is a tremendous night to join us!\n\n<b>5:30pm Registration\n6:15pm D
 inner followed by Program</b>\n\nThere is no cost to attend\, but a free w
 ill offering will be taken to cover the cost of the meal.
DTSTART;TZID=America/New_York:20220509T173000
DTEND;TZID=America/New_York:20220509T203000
LOCATION:1492 Linglestown Rd\, Harrisburg\, PA 17110 US
SUMMARY:2022 Spring Assembly
END:VEVENT
END:VCALENDAR
