BEGIN:VCALENDAR
VERSION:2.0
PRODID:-//www.ccuhbg.org//NONSGML kigkonsult.se iCalcreator 2.30.10//
CALSCALE:GREGORIAN
METHOD:PUBLISH
UID:f97462f9-96db-4799-bbf4-cdf1a354b731
X-WR-CALDESC:Please register using the <b>Register Now </b> button to the r
 ight.\n\nPLEASE REGISTER BY SEPTEMBER 14.
X-WR-RELCALID:b5b6cad6f4758be0276e2bb4cee0c3e9
X-WR-TIMEZONE:America/New_York
BEGIN:VTIMEZONE
TZID:America/New_York
BEGIN:STANDARD
TZNAME:EST
DTSTART:20211107T020000
TZOFFSETFROM:-0400
TZOFFSETTO:-0500
RDATE:20221106T020000
RDATE:20231105T020000
END:STANDARD
BEGIN:DAYLIGHT
TZNAME:EDT
DTSTART:20220313T020000
TZOFFSETFROM:-0500
TZOFFSETTO:-0400
RDATE:20230312T020000
RDATE:20240310T020000
END:DAYLIGHT
END:VTIMEZONE
BEGIN:VEVENT
UID:7c1afe71-7c08-4089-bc27-b1fc7270559a
DTSTAMP:20260419T235307Z
DESCRIPTION:Please register using the <b>Register Now </b> button to the ri
 ght.\n\nPLEASE REGISTER BY SEPTEMBER 14.
DTSTART;TZID=America/New_York:20220923T120000
DTEND;TZID=America/New_York:20220923T150000
LOCATION:Koons Park\, 6030 Larue St\, Linglestown\, PA 17112
SUMMARY:Staff Appreciation Picnic
END:VEVENT
END:VCALENDAR
