BEGIN:VCALENDAR
VERSION:2.0
PRODID:-//www.ccuhbg.org//NONSGML kigkonsult.se iCalcreator 2.30.10//
CALSCALE:GREGORIAN
METHOD:PUBLISH
UID:06ee5b0d-15f4-4d74-84c6-b2f12f3200ac
X-WR-CALDESC:<b><i>Auction\, Dinner and Joy To The Burg 2023 Kickoff Party<
 /i></b>\n\n----Featuring special guest speaker <b>Rev. Derrick James</b>\,
  Pastor of Agape Ministries and Founder of H.I.S.\, Helping Individuals Su
 cceed\, as well as...\n----<b>Live Music</b>\n----<b>Testimonies</b>\n----
 <b>Online Auction</b>\n----<b>Joy to the Burg 2022 Kickoff</b>\nand More\n
 \n<b>REGISTRATION</b>\nJoin us in person\n\n<b>SPONSORSHIP</b>\nContact Ni
 ck Mucci\, Director of Development\, at <b>(717) 230-9550</b> or <b>nmucci
 @ccuhbg.org</b> for sponsorship and advertising opportunities.
X-WR-RELCALID:10de4f3cd2caed75aafb39e99db3fdaa
X-WR-TIMEZONE:America/New_York
BEGIN:VTIMEZONE
TZID:America/New_York
BEGIN:STANDARD
TZNAME:EST
DTSTART:20211107T020000
TZOFFSETFROM:-0400
TZOFFSETTO:-0500
RDATE:20221106T020000
RDATE:20231105T020000
END:STANDARD
BEGIN:DAYLIGHT
TZNAME:EDT
DTSTART:20220313T020000
TZOFFSETFROM:-0500
TZOFFSETTO:-0400
RDATE:20230312T020000
RDATE:20240310T020000
END:DAYLIGHT
END:VTIMEZONE
BEGIN:VEVENT
UID:ce52e0a1-71c2-482a-a143-6e849f97d967
DTSTAMP:20260419T202308Z
DESCRIPTION:<b><i>Auction\, Dinner and Joy To The Burg 2023 Kickoff Party</
 i></b>\n\n----Featuring special guest speaker <b>Rev. Derrick James</b>\, 
 Pastor of Agape Ministries and Founder of H.I.S.\, Helping Individuals Suc
 ceed\, as well as...\n----<b>Live Music</b>\n----<b>Testimonies</b>\n----<
 b>Online Auction</b>\n----<b>Joy to the Burg 2022 Kickoff</b>\nand More\n
 \n<b>REGISTRATION</b>\nJoin us in person\n\n<b>SPONSORSHIP</b>\nContact Ni
 ck Mucci\, Director of Development\, at <b>(717) 230-9550</b> or <b>nmucci
 @ccuhbg.org</b> for sponsorship and advertising opportunities.
DTSTART;TZID=America/New_York:20221103T173000
DTEND;TZID=America/New_York:20221103T203000
LOCATION:Red Lion Hotel\, 4751 Lindle Rd. Harrisburg\, PA 17111
SUMMARY:United In Love Banquet 2022
END:VEVENT
END:VCALENDAR
