BEGIN:VCALENDAR
VERSION:2.0
PRODID:-//www.ccuhbg.org//NONSGML kigkonsult.se iCalcreator 2.30.10//
CALSCALE:GREGORIAN
METHOD:PUBLISH
UID:8edb6144-245e-4f71-9417-199766006657
X-WR-CALDESC:Please join us for a lunch with other members of the Compassio
 n Action Network. Free to attend\, but please register so that we can prov
 ide enough food.\n\nDate: Friday\, January 27\nTime: 12noon\nAt: Macedonia
  Missionary Baptist Church\, 2339 N. 6th St.\, Harrisburg\n\nIf your churc
 h or agency is not yet a member of the Compassion Action Network and would
  like to learn more\, please contact Aisha Mobley\, Compassion Action Netw
 ork Chair\, at <a href='mailto:amobley@ccuhbg.org'>amobley@ccuhbg.org</a> 
 or (717) 963-5985 or Darrel Reinford\, Executive Director\, at dreinford@c
 cuhbg.org or (717) 230-9550.\n\nPlease REGISTER using the button above.
X-WR-RELCALID:00c1bcaa2252db9d73439653ccaf8569
X-WR-TIMEZONE:America/New_York
BEGIN:VTIMEZONE
TZID:America/New_York
BEGIN:STANDARD
TZNAME:EST
DTSTART:20221106T020000
TZOFFSETFROM:-0400
TZOFFSETTO:-0500
RDATE:20231105T020000
END:STANDARD
BEGIN:DAYLIGHT
TZNAME:EDT
DTSTART:20220313T020000
TZOFFSETFROM:-0500
TZOFFSETTO:-0400
RDATE:20230312T020000
RDATE:20240310T020000
END:DAYLIGHT
END:VTIMEZONE
BEGIN:VEVENT
UID:d78d73b6-ebc6-4439-92a5-8aa651940b33
DTSTAMP:20260419T165532Z
DESCRIPTION:Please join us for a lunch with other members of the Compassion
  Action Network. Free to attend\, but please register so that we can provi
 de enough food.\n\nDate: Friday\, January 27\nTime: 12noon\nAt: Macedonia 
 Missionary Baptist Church\, 2339 N. 6th St.\, Harrisburg\n\nIf your church
  or agency is not yet a member of the Compassion Action Network and would 
 like to learn more\, please contact Aisha Mobley\, Compassion Action Netwo
 rk Chair\, at <a href='mailto:amobley@ccuhbg.org'>amobley@ccuhbg.org</a> o
 r (717) 963-5985 or Darrel Reinford\, Executive Director\, at dreinford@cc
 uhbg.org or (717) 230-9550.\n\nPlease REGISTER using the button above.
DTSTART;TZID=America/New_York:20230127T120000
DTEND;TZID=America/New_York:20230127T133000
LOCATION:Macedonia Missionary Baptist Church\, 2339 N. 6th St.\, Harrisburg
 \, PA  17110
SUMMARY:Compassion Action Network In-Person Lunch
END:VEVENT
END:VCALENDAR
