BEGIN:VCALENDAR
VERSION:2.0
PRODID:-//www.ccuhbg.org//NONSGML kigkonsult.se iCalcreator 2.30.10//
CALSCALE:GREGORIAN
METHOD:PUBLISH
UID:020e8e46-e9b6-414b-8b55-cd31bb6bf2e6
X-WR-CALDESC:Please join us for our next Member Relations Council meeting. 
 We invite representatives of our member churches and other partner agencie
 s to join us several times a year for an informational and interactive mee
 ting to keep you apprised of our joint ministry work together. We also sha
 re resources to keep your congregation or group engaged.\n\nDate: Thursday
 \, February 23\, 2023\nTime: 6:30pm for approximately one hour\nVia: ZOOM 
 Meeting\n\nWho should attend: Ideally at least one representative from you
 r congregation or agency (although more are welcome). This can include you
 r designated CCU representative as well as pastors\, outreach committee me
 mbers\, board members\, other interested church members\, social workers\,
  volunteer coordinators\, etc.\n\nIf your church or agency is not yet a me
 mber of CCU and you would like to attend to learn more about the work of C
 CU\, you are welcome to join in the discussion so you can help spread the 
 word about our work in your congregation and the community. Please touch b
 ase with <b>Executive Director Darrel Reinford</b> prior to the meeting to
  introduce yourself if you do not know Darrel already (<b>dreinford@ccuhbg
 .org</b> or <b>717-230-9550</b>).\n\nPlease RSVP. Our meeting with include
 :\n1. Date/time/details of Spring Assembly (currently being finalized)\n2.
  Update on our street outreach efforts in wake of the recently homelessnes
 s encampment closure\, and winter overnight shelters\n3. Information on ou
 r Spring fundraisers: the CCU Highmark Walk and HELP Ministries Golf Tourn
 ament\n4. Opportunities to contribute tangibly to our welcome home kits an
 d our overnight shelter needs\n5. Update on our strategic planning process
 \n\nPlease REGISTER using the button above. If there is something you spec
 ifically have a question about\, please e-mail <b>Darrel Reinford\, Execut
 ive Director</b>\, at <b>dreinford@ccuhbg.org</b> and he can answer your q
 uestion directly or address the question during the zoom meeting if it is 
 of general interest. We look forward to fellowshipping with you on the eve
 ning of February 23!
X-WR-RELCALID:87bd95b3f04ff5adeb3e45820db3c8df
X-WR-TIMEZONE:America/New_York
BEGIN:VTIMEZONE
TZID:America/New_York
BEGIN:STANDARD
TZNAME:EST
DTSTART:20221106T020000
TZOFFSETFROM:-0400
TZOFFSETTO:-0500
RDATE:20231105T020000
END:STANDARD
BEGIN:DAYLIGHT
TZNAME:EDT
DTSTART:20220313T020000
TZOFFSETFROM:-0500
TZOFFSETTO:-0400
RDATE:20230312T020000
RDATE:20240310T020000
END:DAYLIGHT
END:VTIMEZONE
BEGIN:VEVENT
UID:c5c67ba9-1545-4525-81ae-b49edfc7fcef
DTSTAMP:20260419T144703Z
DESCRIPTION:Please join us for our next Member Relations Council meeting. W
 e invite representatives of our member churches and other partner agencies
  to join us several times a year for an informational and interactive meet
 ing to keep you apprised of our joint ministry work together. We also shar
 e resources to keep your congregation or group engaged.\n\nDate: Thursday\
 , February 23\, 2023\nTime: 6:30pm for approximately one hour\nVia: ZOOM M
 eeting\n\nWho should attend: Ideally at least one representative from your
  congregation or agency (although more are welcome). This can include your
  designated CCU representative as well as pastors\, outreach committee mem
 bers\, board members\, other interested church members\, social workers\, 
 volunteer coordinators\, etc.\n\nIf your church or agency is not yet a mem
 ber of CCU and you would like to attend to learn more about the work of CC
 U\, you are welcome to join in the discussion so you can help spread the w
 ord about our work in your congregation and the community. Please touch ba
 se with <b>Executive Director Darrel Reinford</b> prior to the meeting to 
 introduce yourself if you do not know Darrel already (<b>dreinford@ccuhbg.
 org</b> or <b>717-230-9550</b>).\n\nPlease RSVP. Our meeting with include:
 \n1. Date/time/details of Spring Assembly (currently being finalized)\n2. 
 Update on our street outreach efforts in wake of the recently homelessness
  encampment closure\, and winter overnight shelters\n3. Information on our
  Spring fundraisers: the CCU Highmark Walk and HELP Ministries Golf Tourna
 ment\n4. Opportunities to contribute tangibly to our welcome home kits and
  our overnight shelter needs\n5. Update on our strategic planning process
 \n\nPlease REGISTER using the button above. If there is something you spec
 ifically have a question about\, please e-mail <b>Darrel Reinford\, Execut
 ive Director</b>\, at <b>dreinford@ccuhbg.org</b> and he can answer your q
 uestion directly or address the question during the zoom meeting if it is 
 of general interest. We look forward to fellowshipping with you on the eve
 ning of February 23!
DTSTART;TZID=America/New_York:20230223T183000
DTEND;TZID=America/New_York:20230223T200000
LOCATION:ZOOM Meeting
SUMMARY:Winter 2023 Member Relations Council Meeting
END:VEVENT
END:VCALENDAR
